BEGIN:VCALENDAR
VERSION:2.0
PRODID:-//Tarrant Regional Water District - ECPv5.14.1//NONSGML v1.0//EN
CALSCALE:GREGORIAN
METHOD:PUBLISH
X-WR-CALNAME:Tarrant Regional Water District
X-ORIGINAL-URL:https://www.trwd.com
X-WR-CALDESC:Events for Tarrant Regional Water District
BEGIN:VTIMEZONE
TZID:America/Chicago
BEGIN:DAYLIGHT
TZOFFSETFROM:-0600
TZOFFSETTO:-0500
TZNAME:CDT
DTSTART:20240310T080000
END:DAYLIGHT
BEGIN:STANDARD
TZOFFSETFROM:-0500
TZOFFSETTO:-0600
TZNAME:CST
DTSTART:20241103T070000
END:STANDARD
END:VTIMEZONE
BEGIN:VEVENT
DTSTART;TZID=America/Chicago:20240406T100000
DTEND;TZID=America/Chicago:20240406T120000
DTSTAMP:20260424T011006
CREATED:20240315T192957Z
LAST-MODIFIED:20240315T192957Z
UID:123064-1712397600-1712404800@www.trwd.com
SUMMARY:Spring Trash Bash at Richland-Chambers Reservoir
DESCRIPTION:April 6 @ 8:00 AM – 12 PM\nClean up will take place any section around the Richland-Chambers Lake on Saturday\, April 6 from 8AM to 10 AM. Join Tarrant Regional Water District for free food and activities at the after-party from 10 AM to 12 PM. Use this link to learn more about Spring Trash Bash 2024 Trash Bash – trwd.com\n\nVenue \n\nCleanup Location\n\nTRWD Richland-Chambers Lake Office\n\n140 Farm to Market 416\, Streetman\, TX 75859\n\n\nAfterparty Location\n\nTRWD Richland-Chambers Lake Office\n\n140 Farm to Market 416\, Streetman\, TX 75859
URL:https://www.trwd.com/event/spring-trash-bash-at-richland-chambers-reservoir/
CATEGORIES:Volunteer
ATTACH;FMTTYPE=image/jpeg:https://www.trwd.com/wp-content/uploads/2024/03/Event-calendar-TB.jpg
END:VEVENT
END:VCALENDAR