BEGIN:VCALENDAR
VERSION:2.0
PRODID:-//Tarrant Regional Water District - ECPv5.14.1//NONSGML v1.0//EN
CALSCALE:GREGORIAN
METHOD:PUBLISH
X-WR-CALNAME:Tarrant Regional Water District
X-ORIGINAL-URL:https://www.trwd.com
X-WR-CALDESC:Events for Tarrant Regional Water District
BEGIN:VTIMEZONE
TZID:America/Chicago
BEGIN:DAYLIGHT
TZOFFSETFROM:-0600
TZOFFSETTO:-0500
TZNAME:CDT
DTSTART:20250309T080000
END:DAYLIGHT
BEGIN:STANDARD
TZOFFSETFROM:-0500
TZOFFSETTO:-0600
TZNAME:CST
DTSTART:20251102T070000
END:STANDARD
END:VTIMEZONE
BEGIN:VEVENT
DTSTART;TZID=America/Chicago:20250514T090000
DTEND;TZID=America/Chicago:20250514T100000
DTSTAMP:20260423T034508
CREATED:20250416T132810Z
LAST-MODIFIED:20250416T132810Z
UID:132744-1747213200-1747216800@www.trwd.com
SUMMARY:TRWD Special Called Board Meeting
DESCRIPTION:TRWD will hold a special called Board Meeting on May 14\, 2025 at 9:00 AM in the TRWD Administration Building. \nPlease be advised that a quorum of the Board of directors of TRWD will convene on the above date and time to canvass the May 2025 election results. The link to view and listen to the meeting via internet is https://www.trwd.com/boardvideos. A recording of the meeting will also be available at https://www.trwd.com/boardvideos.
URL:https://www.trwd.com/event/trwd-special-called-board-meeting-4/
LOCATION:TRWD Admin Office\, 800 E Northside Drive\, Fort Worth\, TX\, 76102\, United States
CATEGORIES:Business
END:VEVENT
END:VCALENDAR