BEGIN:VCALENDAR
VERSION:2.0
PRODID:-//Tarrant Regional Water District - ECPv5.14.1//NONSGML v1.0//EN
CALSCALE:GREGORIAN
METHOD:PUBLISH
X-WR-CALNAME:Tarrant Regional Water District
X-ORIGINAL-URL:https://www.trwd.com
X-WR-CALDESC:Events for Tarrant Regional Water District
BEGIN:VTIMEZONE
TZID:America/Chicago
BEGIN:DAYLIGHT
TZOFFSETFROM:-0600
TZOFFSETTO:-0500
TZNAME:CDT
DTSTART:20240310T080000
END:DAYLIGHT
BEGIN:STANDARD
TZOFFSETFROM:-0500
TZOFFSETTO:-0600
TZNAME:CST
DTSTART:20241103T070000
END:STANDARD
END:VTIMEZONE
BEGIN:VEVENT
DTSTART;TZID=America/Chicago:20240907T080000
DTEND;TZID=America/Chicago:20240907T120000
DTSTAMP:20260424T093434
CREATED:20240712T190822Z
LAST-MODIFIED:20240712T190822Z
UID:126500-1725696000-1725710400@www.trwd.com
SUMMARY:Fall Trash Bash at Eagle Mountain Lake
DESCRIPTION:Clean up will take place any section around the Eagle Mountain Lake on Saturday\, September 7 from 8AM to 10 AM. Join Tarrant Regional Water District for free food and activities at the after-party from 10 AM to 12 PM. Click here to learn more. \nDetails \n\nDate: Saturday\, September 7\nClean-up Time: 8AM – 10 AM\nAfter-Party Time: 10AM – 12PM\n\nVenue \n\nCleanup Location\n\nTRWD Eagle Mountain Lake Office\n\n10201 N Shore Dr\, Fort Worth\, TX 76135\n\n\nAfterparty Location\n\nTwin Points Park\n\n10200 Ten Mile Bridge Rd\, Fort Worth\, TX 76135
URL:https://www.trwd.com/event/fall-trash-bash-at-eagle-mountain-lake/
CATEGORIES:Volunteer
ATTACH;FMTTYPE=image/jpeg:https://www.trwd.com/wp-content/uploads/2024/07/trashbasheventphoto.jpg
END:VEVENT
END:VCALENDAR