BEGIN:VCALENDAR
VERSION:2.0
PRODID:-//Tarrant Regional Water District - ECPv5.14.1//NONSGML v1.0//EN
CALSCALE:GREGORIAN
METHOD:PUBLISH
X-WR-CALNAME:Tarrant Regional Water District
X-ORIGINAL-URL:https://www.trwd.com
X-WR-CALDESC:Events for Tarrant Regional Water District
BEGIN:VTIMEZONE
TZID:America/Chicago
BEGIN:DAYLIGHT
TZOFFSETFROM:-0600
TZOFFSETTO:-0500
TZNAME:CDT
DTSTART:20190310T080000
END:DAYLIGHT
BEGIN:STANDARD
TZOFFSETFROM:-0500
TZOFFSETTO:-0600
TZNAME:CST
DTSTART:20191103T070000
END:STANDARD
END:VTIMEZONE
BEGIN:VEVENT
DTSTART;VALUE=DATE:20190226
DTEND;VALUE=DATE:20190228
DTSTAMP:20260419T170730
CREATED:20181203T060000Z
LAST-MODIFIED:20190412T212437Z
UID:9952-1551139200-1551311999@www.trwd.com
SUMMARY:Texas State Soil Health Short Course
DESCRIPTION:Please make plans to come be a part of the Texas State Soil Health Short Course.  February 26-27\, 2019 in Palestine\, TX.  Please distribute to anyone that may have interest in Soil Health or just better land stewardship. \nTo register\, Click:  https://www.texas-wildlife.org/resources/events/texas-soil-health-short-course \nClick here for agenda: TSH Course and Logistics Overview
URL:https://www.trwd.com/event/texas-state-soil-health-short-course/
CATEGORIES:Environmental
ATTACH;FMTTYPE=image/jpeg:https://www.trwd.com/wp-content/uploads/2019/04/Capture.jpg
END:VEVENT
END:VCALENDAR