BEGIN:VCALENDAR
VERSION:2.0
PRODID:-//Tarrant Regional Water District - ECPv5.14.1//NONSGML v1.0//EN
CALSCALE:GREGORIAN
METHOD:PUBLISH
X-WR-CALNAME:Tarrant Regional Water District
X-ORIGINAL-URL:https://www.trwd.com
X-WR-CALDESC:Events for Tarrant Regional Water District
BEGIN:VTIMEZONE
TZID:America/Chicago
BEGIN:DAYLIGHT
TZOFFSETFROM:-0600
TZOFFSETTO:-0500
TZNAME:CDT
DTSTART:20200308T080000
END:DAYLIGHT
BEGIN:STANDARD
TZOFFSETFROM:-0500
TZOFFSETTO:-0600
TZNAME:CST
DTSTART:20201101T070000
END:STANDARD
END:VTIMEZONE
BEGIN:VEVENT
DTSTART;VALUE=DATE:20201209
DTEND;VALUE=DATE:20201210
DTSTAMP:20260423T110444
CREATED:20201130T203759Z
LAST-MODIFIED:20201130T203759Z
UID:22176-1607472000-1607558399@www.trwd.com
SUMMARY:Virtual Organic Grower Summit
DESCRIPTION:Launched by the Organic Produce Network (OPN)\, the Organic Grower Summit (OGS) will bring organic growers\, producers and processors together for two days of education\, information and networking opportunities with their production supply chain and support service providers.
URL:https://www.trwd.com/event/virtual-organic-grower-summit-2/
CATEGORIES:Environmental
END:VEVENT
END:VCALENDAR