BEGIN:VCALENDAR
VERSION:2.0
PRODID:-//Tarrant Regional Water District - ECPv5.14.1//NONSGML v1.0//EN
CALSCALE:GREGORIAN
METHOD:PUBLISH
X-WR-CALNAME:Tarrant Regional Water District
X-ORIGINAL-URL:https://www.trwd.com
X-WR-CALDESC:Events for Tarrant Regional Water District
BEGIN:VTIMEZONE
TZID:America/Chicago
BEGIN:DAYLIGHT
TZOFFSETFROM:-0600
TZOFFSETTO:-0500
TZNAME:CDT
DTSTART:20210314T080000
END:DAYLIGHT
BEGIN:STANDARD
TZOFFSETFROM:-0500
TZOFFSETTO:-0600
TZNAME:CST
DTSTART:20211107T070000
END:STANDARD
END:VTIMEZONE
BEGIN:VEVENT
DTSTART;VALUE=DATE:20210210
DTEND;VALUE=DATE:20210213
DTSTAMP:20260423T074515
CREATED:20201125T220253Z
LAST-MODIFIED:20201125T220253Z
UID:22147-1612915200-1613174399@www.trwd.com
SUMMARY:Urban Riparian Virtual Symposium
DESCRIPTION:The Urban Riparian Symposium\, set for February 10 – 12\, 2021\, provides an opportunity for natural resource professionals to share ideas\, discuss management and policy issues\, lessons learned in urban riparian and stream planning\, assessment\, design\, construction\, and evaluation. The symposium will be held virtually and will include presentations\, panel discussions\, virtual socials. Early/Student registration is for $75 before January 10th. Late registration from January 10th – February 5th will be for $90.
URL:https://www.trwd.com/event/urban-riparian-virtual-symposium/
CATEGORIES:Environmental
END:VEVENT
END:VCALENDAR