BEGIN:VCALENDAR
VERSION:2.0
PRODID:-//Tarrant Regional Water District - ECPv5.14.1//NONSGML v1.0//EN
CALSCALE:GREGORIAN
METHOD:PUBLISH
X-WR-CALNAME:Tarrant Regional Water District
X-ORIGINAL-URL:https://www.trwd.com
X-WR-CALDESC:Events for Tarrant Regional Water District
BEGIN:VTIMEZONE
TZID:America/Chicago
BEGIN:DAYLIGHT
TZOFFSETFROM:-0600
TZOFFSETTO:-0500
TZNAME:CDT
DTSTART:20200308T080000
END:DAYLIGHT
BEGIN:STANDARD
TZOFFSETFROM:-0500
TZOFFSETTO:-0600
TZNAME:CST
DTSTART:20201101T070000
END:STANDARD
END:VTIMEZONE
BEGIN:VEVENT
DTSTART;TZID=America/Chicago:20201209T123000
DTEND;TZID=America/Chicago:20201209T140000
DTSTAMP:20260423T123743
CREATED:20201130T204734Z
LAST-MODIFIED:20201130T204734Z
UID:22179-1607517000-1607522400@www.trwd.com
SUMMARY:Successful Grazing Lands -- Innovation to Implementation
DESCRIPTION:VIRTUAL EVENT: Join us as we discuss how a well-planned and executed Conservation Innovation Grant (CIG) on Grazing Lands demonstrated innovative techniques of establishing and grazing native warm season grasses for combined benefits to grazing livestock and ground nesting wildlife. See how the results have been transferred and integrated for use in NRCS to help more farmers to establish and utilize NWSG’s on their farms.
URL:https://www.trwd.com/event/successful-grazing-lands-innovation-to-implementation/
CATEGORIES:Environmental
END:VEVENT
END:VCALENDAR