BEGIN:VCALENDAR
VERSION:2.0
PRODID:-//Tarrant Regional Water District - ECPv5.14.1//NONSGML v1.0//EN
CALSCALE:GREGORIAN
METHOD:PUBLISH
X-WR-CALNAME:Tarrant Regional Water District
X-ORIGINAL-URL:https://www.trwd.com
X-WR-CALDESC:Events for Tarrant Regional Water District
BEGIN:VTIMEZONE
TZID:America/Chicago
BEGIN:DAYLIGHT
TZOFFSETFROM:-0600
TZOFFSETTO:-0500
TZNAME:CDT
DTSTART:20200308T080000
END:DAYLIGHT
BEGIN:STANDARD
TZOFFSETFROM:-0500
TZOFFSETTO:-0600
TZNAME:CST
DTSTART:20201101T070000
END:STANDARD
END:VTIMEZONE
BEGIN:VEVENT
DTSTART;TZID=America/Chicago:20200222T080000
DTEND;TZID=America/Chicago:20200222T120000
DTSTAMP:20260423T135223
CREATED:20200122T214310Z
LAST-MODIFIED:20200122T214310Z
UID:16345-1582358400-1582372800@www.trwd.com
SUMMARY:Save Tarrant Water Home Landscaping Seminar - Watauga
DESCRIPTION:Whether you are new to North Texas or just new to gardening in general\, this event hosted by TRWD will arm you with all the knowledge you need for a lush landscape. This helpful seminar is designed to provide homeowners with a foundation to create lavish landscapes using sustainable methods. Learn how to maintain a healthy lawn\, create a beautiful ornamental garden\, and grow a productive vegetable garden amidst the challenges the unique climate and soils of North Texas throw our way. \nGet gardening tips from local experts at the Tarrant County Master Gardeners and Texas AgriLife Water University to set your landscape up for success! Join us for this one-of-a-kind gardening seminar at either of two dates and locations.  \nRegister for free online at the event webpage.
URL:https://www.trwd.com/event/save-tarrant-water-home-landscaping-seminar-watauga/
LOCATION:Whitley Road Elementary School Auditorium\, 7600 Whitley Road\, Watauga\, TX\, 76148\, United States
CATEGORIES:Environmental,Recreation
ATTACH;FMTTYPE=image/png:https://www.trwd.com/wp-content/uploads/2020/01/landscaping.png
END:VEVENT
END:VCALENDAR