BEGIN:VCALENDAR
VERSION:2.0
PRODID:-//Tarrant Regional Water District - ECPv5.14.1//NONSGML v1.0//EN
CALSCALE:GREGORIAN
METHOD:PUBLISH
X-WR-CALNAME:Tarrant Regional Water District
X-ORIGINAL-URL:https://www.trwd.com
X-WR-CALDESC:Events for Tarrant Regional Water District
BEGIN:VTIMEZONE
TZID:America/Chicago
BEGIN:DAYLIGHT
TZOFFSETFROM:-0600
TZOFFSETTO:-0500
TZNAME:CDT
DTSTART:20200308T080000
END:DAYLIGHT
BEGIN:STANDARD
TZOFFSETFROM:-0500
TZOFFSETTO:-0600
TZNAME:CST
DTSTART:20201101T070000
END:STANDARD
END:VTIMEZONE
BEGIN:VEVENT
DTSTART;TZID=America/Chicago:20201205T100000
DTEND;TZID=America/Chicago:20201205T110000
DTSTAMP:20260423T110500
CREATED:20201130T205343Z
LAST-MODIFIED:20201130T205343Z
UID:22184-1607162400-1607166000@www.trwd.com
SUMMARY:Dirty Work: Soils and Site Prep
DESCRIPTION:VIRTUAL EVENT: Gardening advice often focuses on design and plant choice\, but site choice\, site preparation\, and landscape maintenance are also important factors in creating a successful landscape. Landscapes using native plants can have different requirements than traditional gardens. \nLearn about: \n\nSoil testing\nSoil amendments\nHow to choose appropriate plants for site conditions\nSite and Site preparation\nMaintaining soil and plant health
URL:https://www.trwd.com/event/dirty-work-soils-and-site-prep/
CATEGORIES:Environmental
END:VEVENT
END:VCALENDAR