BEGIN:VCALENDAR
VERSION:2.0
PRODID:-//Tarrant Regional Water District - ECPv5.14.1//NONSGML v1.0//EN
CALSCALE:GREGORIAN
METHOD:PUBLISH
X-WR-CALNAME:Tarrant Regional Water District
X-ORIGINAL-URL:https://www.trwd.com
X-WR-CALDESC:Events for Tarrant Regional Water District
BEGIN:VTIMEZONE
TZID:America/Chicago
BEGIN:DAYLIGHT
TZOFFSETFROM:-0600
TZOFFSETTO:-0500
TZNAME:CDT
DTSTART:20190310T080000
END:DAYLIGHT
BEGIN:STANDARD
TZOFFSETFROM:-0500
TZOFFSETTO:-0600
TZNAME:CST
DTSTART:20191103T070000
END:STANDARD
END:VTIMEZONE
BEGIN:VEVENT
DTSTART;TZID=America/Chicago:20191217T090000
DTEND;TZID=America/Chicago:20191217T110000
DTSTAMP:20260422T170349
CREATED:20191124T022244Z
LAST-MODIFIED:20191124T022244Z
UID:15397-1576573200-1576580400@www.trwd.com
SUMMARY:December TRWD Board Meeting
DESCRIPTION:TRWD will hold its regularly scheduled Board Meeting on December 17 \, 2019 at 9:00 AM in the TRWD Administration Building.
URL:https://www.trwd.com/event/december-trwd-board-meeting-2/
LOCATION:TRWD Admin Office\, 800 E Northside Drive\, Fort Worth\, TX\, 76102\, United States
CATEGORIES:Business
END:VEVENT
END:VCALENDAR